BEGIN:VCALENDAR
VERSION:2.0
PRODID:-//Plone.org//NONSGML plone.app.event//EN
X-WR-TIMEZONE:America/Toronto
BEGIN:VEVENT
SUMMARY:live@CIRMMT : Gestes et actions
DTSTART;TZID=America/Toronto;VALUE=DATE-TIME:20260213T193000
DTEND;TZID=America/Toronto;VALUE=DATE-TIME:20260213T210000
DTSTAMP;VALUE=DATE-TIME:20260422T112304Z
UID:37500a4da18143c8961ea55b5939e31d@project_zeoclients
CONTACT:info [AROBASE] cirmmt [POINT] org
CREATED;VALUE=DATE-TIME:20250626T155024Z
DESCRIPTION:live@CIRMMT présente un concert mettant en vedette le duo [h]
 t et le collectif Hariat
LAST-MODIFIED;VALUE=DATE-TIME:20260213T202502Z
LOCATION:Salle Claude-Champagne\, Pavillon de la faculté de musique\, Uni
 versité de Montréal\, 220 avenue Vincent-d'Indy\, Outremont\, QC H2V 2T2
URL:https://www.cirmmt.org/fr/events/live-cirmmt/13-feb-2026
END:VEVENT
BEGIN:VTIMEZONE
TZID:America/Toronto
X-LIC-LOCATION:America/Toronto
BEGIN:STANDARD
DTSTART;VALUE=DATE-TIME:20251102T010000
TZNAME:EST
TZOFFSETFROM:-0400
TZOFFSETTO:-0500
END:STANDARD
END:VTIMEZONE
END:VCALENDAR
