BEGIN:VCALENDAR
VERSION:2.0
PRODID:-//Plone.org//NONSGML plone.app.event//EN
X-WR-TIMEZONE:America/Toronto
BEGIN:VEVENT
SUMMARY:Gamification
DTSTART;TZID=America/Montreal;VALUE=DATE-TIME:20190206T193000
DTEND;TZID=America/Montreal;VALUE=DATE-TIME:20190206T210000
DTSTAMP;VALUE=DATE-TIME:20260421T162606Z
UID:44a012a8bdc140c996da6f89d7c044e7@project_zeoclients
CREATED;VALUE=DATE-TIME:20210321T215821Z
DESCRIPTION:This live@CIRMMT concert will include music performed by Ensem
 bles AKA and Whim.
LAST-MODIFIED;VALUE=DATE-TIME:20210420T151010Z
LOCATION:Tanna Schulich Hall\, Elizabeth Wirth Music Building\, 527 Sherbr
 ooke Street West.
URL:https://www.cirmmt.org/fr/events/live-cirmmt/feb2019
END:VEVENT
BEGIN:VTIMEZONE
TZID:America/Montreal
X-LIC-LOCATION:America/Montreal
BEGIN:STANDARD
DTSTART;VALUE=DATE-TIME:20181104T010000
TZNAME:EST
TZOFFSETFROM:-0400
TZOFFSETTO:-0500
END:STANDARD
END:VTIMEZONE
END:VCALENDAR
