BEGIN:VCALENDAR
VERSION:2.0
PRODID:-//Plone.org//NONSGML plone.app.event//EN
X-WR-TIMEZONE:America/Toronto
BEGIN:VEVENT
SUMMARY:Les Gestes
DTSTART;TZID=America/Montreal;VALUE=DATE-TIME:20130313T193000
DTEND;TZID=America/Montreal;VALUE=DATE-TIME:20130316T210000
DTSTAMP;VALUE=DATE-TIME:20260420T034737Z
UID:8bb3112ba950454494d31cab1561611b@project_zeoclients
CREATED;VALUE=DATE-TIME:20210321T215823Z
DESCRIPTION:This concert is in collaboration with VanGrimde Corps Secrets 
 and in coproduction with the Agora de la Danse.
LAST-MODIFIED;VALUE=DATE-TIME:20210420T151010Z
LOCATION:Agora de la Danse\, 840\, Cherrier Street\, Montreal
URL:https://www.cirmmt.org/fr/events/live-cirmmt/gestes
END:VEVENT
BEGIN:VTIMEZONE
TZID:America/Montreal
X-LIC-LOCATION:America/Montreal
BEGIN:DAYLIGHT
DTSTART;VALUE=DATE-TIME:20130310T030000
TZNAME:EDT
TZOFFSETFROM:-0500
TZOFFSETTO:-0400
END:DAYLIGHT
END:VTIMEZONE
END:VCALENDAR
