BEGIN:VCALENDAR
VERSION:2.0
PRODID:-//Plone.org//NONSGML plone.app.event//EN
X-WR-TIMEZONE:America/Toronto
BEGIN:VEVENT
SUMMARY:Écoute déplacée : perspectives artistiques sur le son en mouvem
 ent
DTSTART;TZID=America/Toronto;VALUE=DATE-TIME:20260430T163000
DTEND;TZID=America/Toronto;VALUE=DATE-TIME:20260430T173000
DTSTAMP;VALUE=DATE-TIME:20260424T042729Z
UID:fadf0a9187fc4210b75e878138114622@project_zeoclients
CONTACT:info [AROBASE] cirmmt [POINT] org
CREATED;VALUE=DATE-TIME:20260331T143240Z
DESCRIPTION:Un séminaire animé par Stijn Dickel\, de aifoon.
LAST-MODIFIED;VALUE=DATE-TIME:20260401T140002Z
LOCATION:A832 (8e étage)\, Pavillion Elizabeth Wirth de musique\, 527\, r
 ue Sherbrooke O
URL:https://www.cirmmt.org/fr/events/seminars/30-apr-2026-aifoon
END:VEVENT
BEGIN:VTIMEZONE
TZID:America/Toronto
X-LIC-LOCATION:America/Toronto
BEGIN:DAYLIGHT
DTSTART;VALUE=DATE-TIME:20260308T030000
TZNAME:EDT
TZOFFSETFROM:-0500
TZOFFSETTO:-0400
END:DAYLIGHT
END:VTIMEZONE
END:VCALENDAR
