BEGIN:VCALENDAR
VERSION:2.0
PRODID:-//Plone.org//NONSGML plone.app.event//EN
X-WR-TIMEZONE:America/Toronto
BEGIN:VEVENT
SUMMARY:Connecting people\, sound and technology at the NuSom – Research
  Center on Sonology 
DTSTART;TZID=America/Montreal;VALUE=DATE-TIME:20160225T140000
DTEND;TZID=America/Montreal;VALUE=DATE-TIME:20160225T150000
DTSTAMP;VALUE=DATE-TIME:20260422T025209Z
UID:2f528dca9cbd49b8b07e564ef75cdc5d@project_zeoclients
CREATED;VALUE=DATE-TIME:20210321T215856Z
LAST-MODIFIED;VALUE=DATE-TIME:20210420T150934Z
LOCATION:A832\, Elizabeth Wirth Music Building\, 527 Sherbrooke St. West.
URL:https://www.cirmmt.org/fr/events/seminars/Iazzetta
END:VEVENT
BEGIN:VTIMEZONE
TZID:America/Montreal
X-LIC-LOCATION:America/Montreal
BEGIN:STANDARD
DTSTART;VALUE=DATE-TIME:20151101T010000
TZNAME:EST
TZOFFSETFROM:-0400
TZOFFSETTO:-0500
END:STANDARD
END:VTIMEZONE
END:VCALENDAR
