BEGIN:VCALENDAR
VERSION:2.0
PRODID:-//Plone.org//NONSGML plone.app.event//EN
X-WR-TIMEZONE:America/Toronto
BEGIN:VEVENT
SUMMARY:Annelies Bockstael: Turning noise into sound: a neuro-audiological
  perspective on improved perception\, functioning and well-being in challe
 nging auditory conditions
DTSTART;TZID=America/Montreal;VALUE=DATE-TIME:20171208T110000
DTEND;TZID=America/Montreal;VALUE=DATE-TIME:20171208T120000
DTSTAMP;VALUE=DATE-TIME:20260424T012422Z
UID:2b27bc8b3e4e47a286cf985882f3fd7f@project_zeoclients
CREATED;VALUE=DATE-TIME:20210321T215910Z
LAST-MODIFIED;VALUE=DATE-TIME:20210420T150936Z
LOCATION:A512 (enter through the library on the third floor)\, Elizabeth W
 irth Music Building\, 527 Sherbrooke St W
URL:https://www.cirmmt.org/fr/events/seminars/bockstael
END:VEVENT
BEGIN:VTIMEZONE
TZID:America/Montreal
X-LIC-LOCATION:America/Montreal
BEGIN:STANDARD
DTSTART;VALUE=DATE-TIME:20171105T010000
TZNAME:EST
TZOFFSETFROM:-0400
TZOFFSETTO:-0500
END:STANDARD
END:VTIMEZONE
END:VCALENDAR
