BEGIN:VCALENDAR
VERSION:2.0
PRODID:-//Plone.org//NONSGML plone.app.event//EN
X-WR-TIMEZONE:America/Toronto
BEGIN:VEVENT
SUMMARY:James Clark: Developing Music Synthesis Systems using Field Progra
 mmable Gate Arrays (FPGA)
DTSTART;TZID=America/Montreal;VALUE=DATE-TIME:20130130T160000
DTEND;TZID=America/Montreal;VALUE=DATE-TIME:20130130T173000
DTSTAMP;VALUE=DATE-TIME:20260420T110640Z
UID:0e460e3ce3814937b51d84d6971d3660@project_zeoclients
CREATED;VALUE=DATE-TIME:20210321T215918Z
LAST-MODIFIED;VALUE=DATE-TIME:20210420T150937Z
LOCATION:A-832\, New Music Building\, 527 Sherbrooke Street West.
URL:https://www.cirmmt.org/fr/events/seminars/clark
END:VEVENT
BEGIN:VTIMEZONE
TZID:America/Montreal
X-LIC-LOCATION:America/Montreal
BEGIN:STANDARD
DTSTART;VALUE=DATE-TIME:20121104T010000
TZNAME:EST
TZOFFSETFROM:-0400
TZOFFSETTO:-0500
END:STANDARD
END:VTIMEZONE
END:VCALENDAR
