BEGIN:VCALENDAR
VERSION:2.0
PRODID:-//Plone.org//NONSGML plone.app.event//EN
X-WR-TIMEZONE:America/Toronto
BEGIN:VEVENT
SUMMARY:Marco Fusi : l'interprète créatif et Giacinto Scelsi
DTSTART;TZID=America/Toronto;VALUE=DATE-TIME:20220913T163000
DTEND;TZID=America/Toronto;VALUE=DATE-TIME:20220913T173000
DTSTAMP;VALUE=DATE-TIME:20260421T133903Z
UID:bfab66ca4ee444f7ac74888a9275357f@project_zeoclients
CONTACT:info [AT] cirmmt.org
CREATED;VALUE=DATE-TIME:20220519T184955Z
DESCRIPTION:Une présentation avec l'invité Marco Fusi (Conservatoire Roy
 al d'Anvers) sur les approches des œuvres pour instruments à cordes de G
 iacinto Scelsi.
LAST-MODIFIED;VALUE=DATE-TIME:20220831T153003Z
LOCATION:A-832 (8e étage)\, 527 Rue Sherbrooke Ouest
URL:https://www.cirmmt.org/fr/events/seminars/marco-fusi
END:VEVENT
BEGIN:VTIMEZONE
TZID:America/Toronto
X-LIC-LOCATION:America/Toronto
BEGIN:DAYLIGHT
DTSTART;VALUE=DATE-TIME:20220313T030000
TZNAME:EDT
TZOFFSETFROM:-0500
TZOFFSETTO:-0400
END:DAYLIGHT
END:VTIMEZONE
END:VCALENDAR
