BEGIN:VCALENDAR
VERSION:2.0
PRODID:-//Plone.org//NONSGML plone.app.event//EN
X-WR-TIMEZONE:America/Toronto
BEGIN:VEVENT
SUMMARY:Barbara Tillman: "Musical expectations"
DTSTART;TZID=America/Montreal;VALUE=DATE-TIME:20060330T160000
DTEND;TZID=America/Montreal;VALUE=DATE-TIME:20060330T173000
DTSTAMP;VALUE=DATE-TIME:20260424T202203Z
UID:8c3dc68cf3b94e5eb3e839d89324cd53@project_zeoclients
CREATED;VALUE=DATE-TIME:20210321T220007Z
DESCRIPTION:Barbara Tillman is a researcher at CNRS-UMR in France.
LAST-MODIFIED;VALUE=DATE-TIME:20210420T150944Z
LOCATION:Strathcona Music Building (555 Sherbrooke
URL:https://www.cirmmt.org/fr/events/seminars/tillman
END:VEVENT
BEGIN:VTIMEZONE
TZID:America/Montreal
X-LIC-LOCATION:America/Montreal
BEGIN:STANDARD
DTSTART;VALUE=DATE-TIME:20051030T010000
TZNAME:EST
TZOFFSETFROM:-0400
TZOFFSETTO:-0500
END:STANDARD
END:VTIMEZONE
END:VCALENDAR
