BEGIN:VCALENDAR
VERSION:2.0
PRODID:-//Plone.org//NONSGML plone.app.event//EN
X-WR-TIMEZONE:America/Toronto
BEGIN:VEVENT
SUMMARY:ACTOR Speaker Series: Perspectives afrologiques sur le timbre et l
 'orchestration - Blackface\, Black Sounds\, and Black String band Music
DTSTART;TZID=America/Toronto;VALUE=DATE-TIME:20231012T120000
DTEND;TZID=America/Toronto;VALUE=DATE-TIME:20231012T131500
DTSTAMP;VALUE=DATE-TIME:20260422T071843Z
UID:185310db24d04c298759e9707ed23227@project_zeoclients
CONTACT:ACTOR Project\, actor-project.music@mcgill.ca\, https://www.actorp
 roject.org/events-calendar/blackface-black-sounds-and-black-string-band-mu
 sic
CREATED;VALUE=DATE-TIME:20230922T192615Z
DESCRIPTION:Cette conférence examinera comment le timbre de la musique de
 s orchestres à cordes a été racialisé par l'héritage du blackface\, t
 out en récupérant certaines des histoires interprétées (passées et pr
 ésentes) des musicien·ne·s noirs d'orchestres à cordes.
LAST-MODIFIED;VALUE=DATE-TIME:20230922T193135Z
LOCATION:Événement en ligne
URL:https://www.cirmmt.org/fr/events/special/actor-speaker-series-afrologi
 cal-perpectives-on-timbre-and-orchestration-oct12
END:VEVENT
BEGIN:VTIMEZONE
TZID:America/Toronto
X-LIC-LOCATION:America/Toronto
BEGIN:DAYLIGHT
DTSTART;VALUE=DATE-TIME:20230312T030000
TZNAME:EDT
TZOFFSETFROM:-0500
TZOFFSETTO:-0400
END:DAYLIGHT
END:VTIMEZONE
END:VCALENDAR
