BEGIN:VCALENDAR
VERSION:2.0
PRODID:-//Plone.org//NONSGML plone.app.event//EN
X-WR-TIMEZONE:America/Toronto
BEGIN:VEVENT
SUMMARY:improv@CIRMMT
DTSTART;TZID=America/Toronto;VALUE=DATE-TIME:20230309T190000
DTEND;TZID=America/Toronto;VALUE=DATE-TIME:20230309T213000
DTSTAMP;VALUE=DATE-TIME:20260421T150937Z
UID:53fae28ae6d64a1f9352a504e145d70d@project_zeoclients
CONTACT:takuto.fukuda [AT] mail.mcgill.ca
CREATED;VALUE=DATE-TIME:20221207T161232Z
DESCRIPTION:improv@CIRMMT est une série consacrée à l'improvisation él
 ectroacoustique\, organisée par les étudiant·e·s du CIRMMT.
LAST-MODIFIED;VALUE=DATE-TIME:20230309T160109Z
LOCATION:5043 Rue Saint Denis
URL:https://www.cirmmt.org/fr/events/special/improv-cirmmt-march-2023
END:VEVENT
BEGIN:VTIMEZONE
TZID:America/Toronto
X-LIC-LOCATION:America/Toronto
BEGIN:STANDARD
DTSTART;VALUE=DATE-TIME:20221106T010000
TZNAME:EST
TZOFFSETFROM:-0400
TZOFFSETTO:-0500
END:STANDARD
END:VTIMEZONE
END:VCALENDAR
