BEGIN:VCALENDAR
VERSION:2.0
PRODID:-//Plone.org//NONSGML plone.app.event//EN
X-WR-TIMEZONE:America/Toronto
BEGIN:VEVENT
SUMMARY:Salon des talents\, de la recherche et de l'emploi au CIRMMT
DTSTART;TZID=America/Toronto;VALUE=DATE-TIME:20230413T090000
DTEND;TZID=America/Toronto;VALUE=DATE-TIME:20230413T150000
DTSTAMP;VALUE=DATE-TIME:20260419T111409Z
UID:3197d49f90e84082a117dc581bf636f1@project_zeoclients
CONTACT:info [AT] cirmmt [DOT] org
CREATED;VALUE=DATE-TIME:20230310T153308Z
DESCRIPTION:Quand étudiant·e·s\, universitaires et industriel·le·s se
  rencontrent
LAST-MODIFIED;VALUE=DATE-TIME:20230411T152820Z
LOCATION:Elizabeth Wirth Lobby\, 527 Sherbrooke O.
URL:https://www.cirmmt.org/fr/events/special/jobfair
END:VEVENT
BEGIN:VTIMEZONE
TZID:America/Toronto
X-LIC-LOCATION:America/Toronto
BEGIN:DAYLIGHT
DTSTART;VALUE=DATE-TIME:20230312T030000
TZNAME:EDT
TZOFFSETFROM:-0500
TZOFFSETTO:-0400
END:DAYLIGHT
END:VTIMEZONE
END:VCALENDAR
