BEGIN:VCALENDAR
VERSION:2.0
PRODID:-//Plone.org//NONSGML plone.app.event//EN
X-WR-TIMEZONE:America/Toronto
BEGIN:VEVENT
SUMMARY:Morton Subotnick & Lillevan: As I Live & Breathe
DTSTART;TZID=America/Toronto;VALUE=DATE-TIME:20220323T193000
DTEND;TZID=America/Toronto;VALUE=DATE-TIME:20220323T210000
DTSTAMP;VALUE=DATE-TIME:20260421T150644Z
UID:01bffdd91e8945aabc68e6f1d074412e@project_zeoclients
CONTACT:MUTEK\, 514-871-8646\, https://my.weezevent.com/morton-subotnick-l
 illevan-montreal
CREATED;VALUE=DATE-TIME:20220307T210513Z
DESCRIPTION:MUTEK\, AKOUSMA et CIRMMT présentent : \n“As I Live & Breat
 he” conçu et interprété par Morton Subotnick avec les visuels de Lill
 evan
LAST-MODIFIED;VALUE=DATE-TIME:20220315T153245Z
LOCATION:MMR\, 527 Rue Sherbrooke Ouest
URL:https://www.cirmmt.org/fr/events/special/morton-subotnick
END:VEVENT
BEGIN:VTIMEZONE
TZID:America/Toronto
X-LIC-LOCATION:America/Toronto
BEGIN:DAYLIGHT
DTSTART;VALUE=DATE-TIME:20220313T030000
TZNAME:EDT
TZOFFSETFROM:-0500
TZOFFSETTO:-0400
END:DAYLIGHT
END:VTIMEZONE
END:VCALENDAR
