BEGIN:VCALENDAR
VERSION:2.0
PRODID:-//Plone.org//NONSGML plone.app.event//EN
X-WR-TIMEZONE:America/Toronto
BEGIN:VEVENT
SUMMARY:Corey Kereliuk: "Improved Hidden Markov Model Partial Tracking Thr
 ough Time-Frequency Analysis" and Jason Hockman: "Automated Rhythmic Trans
 formations of Musical Audio"
DTSTART;TZID=America/Montreal;VALUE=DATE-TIME:20081007T123000
DTEND;TZID=America/Montreal;VALUE=DATE-TIME:20081007T133000
DTSTAMP;VALUE=DATE-TIME:20260425T061640Z
UID:863ed7d1f1fa4ababeec88df11d087d6@project_zeoclients
CREATED;VALUE=DATE-TIME:20200915T102656Z
DESCRIPTION:Corey Kereliuk and Jason Hockman are PhD Students in the Music
  Technology Area of the Schulich School of Music\, McGill University.
LAST-MODIFIED;VALUE=DATE-TIME:20210420T151123Z
LOCATION:New Music Building\, McGill University\, 527 Sherbrooke St. West\
 , A512 (in the library - entrance on 3rd floor)
URL:https://www.cirmmt.org/fr/events/student-colloquia/music-tech/kereliuk
 -hockman
END:VEVENT
BEGIN:VTIMEZONE
TZID:America/Montreal
X-LIC-LOCATION:America/Montreal
BEGIN:DAYLIGHT
DTSTART;VALUE=DATE-TIME:20080309T030000
TZNAME:EDT
TZOFFSETFROM:-0500
TZOFFSETTO:-0400
END:DAYLIGHT
END:VTIMEZONE
END:VCALENDAR
