BEGIN:VCALENDAR
VERSION:2.0
PRODID:-//Plone.org//NONSGML plone.app.event//EN
X-WR-TIMEZONE:America/Toronto
BEGIN:VEVENT
SUMMARY:AR1 réunion générale 2026
DTSTART;TZID=America/Toronto;VALUE=DATE-TIME:20260108T170000
DTEND;TZID=America/Toronto;VALUE=DATE-TIME:20260108T180000
DTSTAMP;VALUE=DATE-TIME:20260421T094421Z
UID:0a66b52efaa145dfbf44fc15a9822a41@project_zeoclients
CONTACT:info [AROBASE] cirmmt [POINT] org
CREATED;VALUE=DATE-TIME:20260105T184920Z
DESCRIPTION:Réunion générale de l'axe de recherche 1 du CIRMMT (Instrum
 ents\, appareils et systèmes)
LAST-MODIFIED;VALUE=DATE-TIME:20260105T185134Z
LOCATION:En ligne via Zoom (lien ci-dessous)
URL:https://www.cirmmt.org/fr/events/workshops/meetings/08-01-2026-ra1-gm
END:VEVENT
BEGIN:VTIMEZONE
TZID:America/Toronto
X-LIC-LOCATION:America/Toronto
BEGIN:STANDARD
DTSTART;VALUE=DATE-TIME:20251102T010000
TZNAME:EST
TZOFFSETFROM:-0400
TZOFFSETTO:-0500
END:STANDARD
END:VTIMEZONE
END:VCALENDAR
