BEGIN:VCALENDAR
VERSION:2.0
PRODID:-//Plone.org//NONSGML plone.app.event//EN
X-WR-TIMEZONE:America/Toronto
BEGIN:VEVENT
SUMMARY:Assemblée générale de l'axe de recherche 2
DTSTART;TZID=America/Toronto;VALUE=DATE-TIME:20250318T160000
DTEND;TZID=America/Toronto;VALUE=DATE-TIME:20250318T164500
DTSTAMP;VALUE=DATE-TIME:20260421T094301Z
UID:bc9f4713f717431aa1bffdcfb17aa4d6@project_zeoclients
CONTACT:info[AROBASE]cirmmt[POINT]org
CREATED;VALUE=DATE-TIME:20250217T153555Z
DESCRIPTION:Tout·es les chercheur·euses et membres étudiant·es du CIRM
 MT intéressé·es par les activités du AR2 (Recherche sur l'information 
 musicale) sont les bienvenus\, de même que les futurs membres étudiant·
 es qui souhaiteraient s'impliquer en 2025–2026.
LAST-MODIFIED;VALUE=DATE-TIME:20250313T160721Z
LOCATION:A832 (8 étage)\, Pavillon de musique Elizabeth Wirth\, 527\, She
 rbrooke O
URL:https://www.cirmmt.org/fr/events/workshops/meetings/18-mar-2025-ra2-gm
END:VEVENT
BEGIN:VTIMEZONE
TZID:America/Toronto
X-LIC-LOCATION:America/Toronto
BEGIN:DAYLIGHT
DTSTART;VALUE=DATE-TIME:20250309T030000
TZNAME:EDT
TZOFFSETFROM:-0500
TZOFFSETTO:-0400
END:DAYLIGHT
END:VTIMEZONE
END:VCALENDAR
