BEGIN:VCALENDAR
VERSION:2.0
PRODID:-//Plone.org//NONSGML plone.app.event//EN
X-WR-TIMEZONE:America/Toronto
BEGIN:VEVENT
SUMMARY:Immersive and Multimodal Systems Axis Meeting
DTSTART;TZID=America/Montreal;VALUE=DATE-TIME:20101209T100000
DTEND;TZID=America/Montreal;VALUE=DATE-TIME:20101209T110000
DTSTAMP;VALUE=DATE-TIME:20260422T003101Z
UID:5e27ad7f98124ef79daaf81b4b457b6d@project_zeoclients
CREATED;VALUE=DATE-TIME:20210321T220051Z
DESCRIPTION:Research axis 4 will hold a general meeting on Thursday\, Dece
 mber 9th\, from 10:00-11:00am.
LAST-MODIFIED;VALUE=DATE-TIME:20210420T151018Z
LOCATION:A-807\, New Music Building\, 527 Sherbrooke St West
URL:https://www.cirmmt.org/fr/events/workshops/meetings/201001axis4
END:VEVENT
BEGIN:VTIMEZONE
TZID:America/Montreal
X-LIC-LOCATION:America/Montreal
BEGIN:STANDARD
DTSTART;VALUE=DATE-TIME:20101107T010000
TZNAME:EST
TZOFFSETFROM:-0400
TZOFFSETTO:-0500
END:STANDARD
END:VTIMEZONE
END:VCALENDAR
