BEGIN:VCALENDAR
VERSION:2.0
PRODID:-//Plone.org//NONSGML plone.app.event//EN
X-WR-TIMEZONE:America/Toronto
BEGIN:VEVENT
SUMMARY:AR2 réunion générale 2026
DTSTART;TZID=America/Toronto;VALUE=DATE-TIME:20260209T113000
DTEND;TZID=America/Toronto;VALUE=DATE-TIME:20260209T130000
DTSTAMP;VALUE=DATE-TIME:20260421T094423Z
UID:6822d7a2d74349c588de0b9b824d70bb@project_zeoclients
CONTACT:info [AROBASE] cirmmt [POINT] org
CREATED;VALUE=DATE-TIME:20260204T161040Z
DESCRIPTION:Réunion générale de l'axe de recherche 2 du CIRMMT (Recherc
 he en information musicale)
LAST-MODIFIED;VALUE=DATE-TIME:20260204T161109Z
LOCATION:A832 (8 étage)\, Pavillon de musique Elizabeth Schulich\, 527\, 
 Sherbrooke O
URL:https://www.cirmmt.org/fr/events/workshops/meetings/9-feb-2026-ra2-gm
END:VEVENT
BEGIN:VTIMEZONE
TZID:America/Toronto
X-LIC-LOCATION:America/Toronto
BEGIN:STANDARD
DTSTART;VALUE=DATE-TIME:20251102T010000
TZNAME:EST
TZOFFSETFROM:-0400
TZOFFSETTO:-0500
END:STANDARD
END:VTIMEZONE
END:VCALENDAR
