BEGIN:VCALENDAR
VERSION:2.0
PRODID:-//Plone.org//NONSGML plone.app.event//EN
X-WR-TIMEZONE:America/Toronto
BEGIN:VEVENT
SUMMARY:Workshop on Human-Machine Interaction and Music
DTSTART;TZID=America/Montreal;VALUE=DATE-TIME:20100414T150000
DTEND;TZID=America/Montreal;VALUE=DATE-TIME:20100414T180000
DTSTAMP;VALUE=DATE-TIME:20260422T002752Z
UID:7d934c38dfcb453694cfe2f9c702cc6f@project_zeoclients
CREATED;VALUE=DATE-TIME:20220210T175928Z
DESCRIPTION:This workshop is organized by CIRMMT Research Axis 2 (Musical 
 gestures\, devices and motion capture). It will take place on April 14th\,
  2010 at 2pm. This workshop is free and open to all. Registration is requi
 red. 
LAST-MODIFIED;VALUE=DATE-TIME:20220211T185430Z
LOCATION:A807\, Strathcona Music Building\, 555 Sherbrooke St. West\, Mont
 real
URL:https://www.cirmmt.org/fr/events/workshops/meetings/Human-Machine
END:VEVENT
BEGIN:VTIMEZONE
TZID:America/Montreal
X-LIC-LOCATION:America/Montreal
BEGIN:DAYLIGHT
DTSTART;VALUE=DATE-TIME:20100314T030000
TZNAME:EDT
TZOFFSETFROM:-0500
TZOFFSETTO:-0400
END:DAYLIGHT
END:VTIMEZONE
END:VCALENDAR
