BEGIN:VCALENDAR
VERSION:2.0
PRODID:-//Plone.org//NONSGML plone.app.event//EN
X-WR-TIMEZONE:America/Toronto
BEGIN:VEVENT
SUMMARY:Workshop on Motion Capture and Music
DTSTART;TZID=America/Montreal;VALUE=DATE-TIME:20100601T143000
DTEND;TZID=America/Montreal;VALUE=DATE-TIME:20100601T173000
DTSTAMP;VALUE=DATE-TIME:20260422T003238Z
UID:a73ac37bf97e4b5191e3268dd36d2d5c@project_zeoclients
CREATED;VALUE=DATE-TIME:20220210T175919Z
DESCRIPTION:This workshop is organized by CIRMMT Research Axis 2 (Musical 
 gestures\, devices and motion capture). It will take place on June 1st\, 2
 010 in A832 (New Music Building). This workshop is free and open to all. R
 egistration is required. \n\n\n
LAST-MODIFIED;VALUE=DATE-TIME:20220211T185430Z
LOCATION:A832\, New Music Building\, 527 Sherbrooke St. West. Enter via 55
 5 Sherbrooke St. West. 
URL:https://www.cirmmt.org/fr/events/workshops/meetings/Motion-capture-mus
 ic
END:VEVENT
BEGIN:VTIMEZONE
TZID:America/Montreal
X-LIC-LOCATION:America/Montreal
BEGIN:DAYLIGHT
DTSTART;VALUE=DATE-TIME:20100314T030000
TZNAME:EDT
TZOFFSETFROM:-0500
TZOFFSETTO:-0400
END:DAYLIGHT
END:VTIMEZONE
END:VCALENDAR
