BEGIN:VCALENDAR
VERSION:2.0
PRODID:-//Plone.org//NONSGML plone.app.event//EN
X-WR-TIMEZONE:America/Toronto
BEGIN:VEVENT
SUMMARY:Workshop on String Instruments: Acoustics and Perceived Quality
DTSTART;TZID=America/Montreal;VALUE=DATE-TIME:20100324T103000
DTEND;TZID=America/Montreal;VALUE=DATE-TIME:20100324T180000
DTSTAMP;VALUE=DATE-TIME:20260422T003350Z
UID:d6e4a9af44924b6c90deb8840b70fd09@project_zeoclients
CREATED;VALUE=DATE-TIME:20220210T175938Z
DESCRIPTION:This workshop is organized by CIRMMT Research Axes 1 (Sound Mo
 deling\, Acoustics and Signal Processing). It will take place on Wednesday
 \, March 24th\, 2010 at McGill University (A832\, New Music Building\, 527
  Sherbrooke St. West). Registration is free.\n\n\n
LAST-MODIFIED;VALUE=DATE-TIME:20220211T185431Z
LOCATION:A832\, New Music Building\, 527 Sherbrooke St. West. Enter via 55
 5 Sherbrooke St. West.
URL:https://www.cirmmt.org/fr/events/workshops/meetings/acoustics-and-perc
 eived-quality
END:VEVENT
BEGIN:VTIMEZONE
TZID:America/Montreal
X-LIC-LOCATION:America/Montreal
BEGIN:DAYLIGHT
DTSTART;VALUE=DATE-TIME:20100314T030000
TZNAME:EDT
TZOFFSETFROM:-0500
TZOFFSETTO:-0400
END:DAYLIGHT
END:VTIMEZONE
END:VCALENDAR
