BEGIN:VCALENDAR
VERSION:2.0
PRODID:-//Plone.org//NONSGML plone.app.event//EN
X-WR-TIMEZONE:America/Toronto
BEGIN:VEVENT
SUMMARY:Workshop on Acoustics and the Performance of Music (with Jürgen M
 eyer) 
DTSTART;TZID=America/Montreal;VALUE=DATE-TIME:20091016T110000
DTEND;TZID=America/Montreal;VALUE=DATE-TIME:20091016T170000
DTSTAMP;VALUE=DATE-TIME:20260422T015738Z
UID:8115091ef5a54a6891caeb3bbd8729e2@project_zeoclients
CREATED;VALUE=DATE-TIME:20220210T175927Z
DESCRIPTION:This workshop is organized by CIRMMT Research Axis 6 (Expanded
  Musical Practice) and 1 (Sound Modeling\, Acoustics and Signal Processing
 ).  It will take place on October 16th\, 2009 at McGill University (Multim
 edia Room\, level -2\, New Music Building\, 527 Sherbrooke St. West).  Reg
 istration is free.
LAST-MODIFIED;VALUE=DATE-TIME:20220211T185430Z
LOCATION:MMR\, New Music Building\, McGill University (enter via 555 Sherb
 rooke St. West)
URL:https://www.cirmmt.org/fr/events/workshops/meetings/acoustics-performa
 nce
END:VEVENT
BEGIN:VTIMEZONE
TZID:America/Montreal
X-LIC-LOCATION:America/Montreal
BEGIN:DAYLIGHT
DTSTART;VALUE=DATE-TIME:20090308T030000
TZNAME:EDT
TZOFFSETFROM:-0500
TZOFFSETTO:-0400
END:DAYLIGHT
END:VTIMEZONE
END:VCALENDAR
