BEGIN:VCALENDAR
VERSION:2.0
PRODID:-//Plone.org//NONSGML plone.app.event//EN
X-WR-TIMEZONE:America/Toronto
BEGIN:VEVENT
SUMMARY:Workshop on audio-haptic interaction in music
DTSTART;TZID=America/Montreal;VALUE=DATE-TIME:20130125T100000
DTEND;TZID=America/Montreal;VALUE=DATE-TIME:20130125T170000
DTSTAMP;VALUE=DATE-TIME:20260421T204021Z
UID:5aa3619b9be74f37a937fbd027272e5d@project_zeoclients
CREATED;VALUE=DATE-TIME:20220210T175926Z
DESCRIPTION:This workshop is co-organized by CIRMMT Research Axis 2 (Music
 al gestures\, devices and motion capture) and the Input Devices and Music 
 Interaction Laboratory (IDMIL). It will take place on January 25th\, in ro
 om A832 (New Music Building). This workshop is free and open to all. Regis
 tration is required. \n
LAST-MODIFIED;VALUE=DATE-TIME:20220211T185430Z
LOCATION:A832\, New Music Building\, 527 Sherbrooke St. West.
URL:https://www.cirmmt.org/fr/events/workshops/meetings/audio-haptic
END:VEVENT
BEGIN:VTIMEZONE
TZID:America/Montreal
X-LIC-LOCATION:America/Montreal
BEGIN:STANDARD
DTSTART;VALUE=DATE-TIME:20121104T010000
TZNAME:EST
TZOFFSETFROM:-0400
TZOFFSETTO:-0500
END:STANDARD
END:VTIMEZONE
END:VCALENDAR
