BEGIN:VCALENDAR
VERSION:2.0
PRODID:-//Plone.org//NONSGML plone.app.event//EN
X-WR-TIMEZONE:America/Toronto
BEGIN:VEVENT
SUMMARY:Musical Gestures\, Devices and Motion Capture (RA2) Axis Meeting
DTSTART;TZID=America/Montreal;VALUE=DATE-TIME:20121107T140000
DTEND;TZID=America/Montreal;VALUE=DATE-TIME:20121107T150000
DTSTAMP;VALUE=DATE-TIME:20260421T204737Z
UID:ba5ba36c266149e7bcdcdae45e6b4025@project_zeoclients
CREATED;VALUE=DATE-TIME:20210321T220052Z
DESCRIPTION:Research axis 2 will hold its fall general meeting on Wednesda
 y\, November 7th\, from 2:00-3:00pm.  
LAST-MODIFIED;VALUE=DATE-TIME:20210420T151018Z
LOCATION:A-607\, New Music Building\, 527 Sherbrooke St West
URL:https://www.cirmmt.org/fr/events/workshops/meetings/axis2-121107
END:VEVENT
BEGIN:VTIMEZONE
TZID:America/Montreal
X-LIC-LOCATION:America/Montreal
BEGIN:STANDARD
DTSTART;VALUE=DATE-TIME:20121104T010000
TZNAME:EST
TZOFFSETFROM:-0400
TZOFFSETTO:-0500
END:STANDARD
END:VTIMEZONE
END:VCALENDAR
