BEGIN:VCALENDAR
VERSION:2.0
PRODID:-//Plone.org//NONSGML plone.app.event//EN
X-WR-TIMEZONE:America/Toronto
BEGIN:VEVENT
SUMMARY:Musical Information Archiving and Retrieval Axis Meeting
DTSTART;TZID=America/Montreal;VALUE=DATE-TIME:20071210T140000
DTEND;TZID=America/Montreal;VALUE=DATE-TIME:20071210T170000
DTSTAMP;VALUE=DATE-TIME:20260422T030303Z
UID:d38f36a2fd3049c69fe59ab5ea449d8c@project_zeoclients
CREATED;VALUE=DATE-TIME:20210321T220053Z
DESCRIPTION:Research axis 3 will hold its Fall general meeting at BRAMS (U
 niversité de Montréal) on  Monday\, December 10th\, from 2-5pm.  There w
 ill be a small reception after the meeting.
LAST-MODIFIED;VALUE=DATE-TIME:20210420T151018Z
LOCATION:BRAMS\, Université de Montréal\, 1430 bd du Mont-Royal\, 1er é
 tage\, O-120 (Metro Edouard Montpetit)
URL:https://www.cirmmt.org/fr/events/workshops/meetings/axis3
END:VEVENT
BEGIN:VTIMEZONE
TZID:America/Montreal
X-LIC-LOCATION:America/Montreal
BEGIN:STANDARD
DTSTART;VALUE=DATE-TIME:20071104T010000
TZNAME:EST
TZOFFSETFROM:-0400
TZOFFSETTO:-0500
END:STANDARD
END:VTIMEZONE
END:VCALENDAR
