BEGIN:VCALENDAR
VERSION:2.0
PRODID:-//Plone.org//NONSGML plone.app.event//EN
X-WR-TIMEZONE:America/Toronto
BEGIN:VEVENT
SUMMARY:Workshop on Mario Bertoncini and his extended instruments: What\, 
 how and why?
DTSTART;TZID=America/Montreal;VALUE=DATE-TIME:20120919T150000
DTEND;TZID=America/Montreal;VALUE=DATE-TIME:20120919T190000
DTSTAMP;VALUE=DATE-TIME:20260421T220607Z
UID:a818f02dbe8d45ff99c49595f57b1590@project_zeoclients
CREATED;VALUE=DATE-TIME:20220210T175913Z
DESCRIPTION:This workshop is organized by CIRMMT Research Axis 6 (Expanded
  musical practice). It will take place on September 19th\, in A832 (New Mu
 sic Building). This workshop is free and open to all. Registration is requ
 ired. \n\n\n
LAST-MODIFIED;VALUE=DATE-TIME:20220211T185429Z
LOCATION:A832\, New Music Building\, 527 Sherbrooke St. West.
URL:https://www.cirmmt.org/fr/events/workshops/meetings/bertoncini
END:VEVENT
BEGIN:VTIMEZONE
TZID:America/Montreal
X-LIC-LOCATION:America/Montreal
BEGIN:DAYLIGHT
DTSTART;VALUE=DATE-TIME:20120311T030000
TZNAME:EDT
TZOFFSETFROM:-0500
TZOFFSETTO:-0400
END:DAYLIGHT
END:VTIMEZONE
END:VCALENDAR
