BEGIN:VCALENDAR
VERSION:2.0
PRODID:-//Plone.org//NONSGML plone.app.event//EN
X-WR-TIMEZONE:America/Toronto
BEGIN:VEVENT
SUMMARY:Workshop: Beyond free sorting
DTSTART;TZID=America/Montreal;VALUE=DATE-TIME:20121011T083000
DTEND;TZID=America/Montreal;VALUE=DATE-TIME:20121012T130000
DTSTAMP;VALUE=DATE-TIME:20260421T220549Z
UID:553bf11c2a124bb6876353250a10f842@project_zeoclients
CREATED;VALUE=DATE-TIME:20220210T175936Z
DESCRIPTION:This workshop is co-hosted by CIRMMT Research Axis 4 (Immersiv
 e multimodal systems) and INCAS3\, a cognitive research institute in Assen
 \, the Netherlands. It will take place over two days\, on  October 11th an
 d 12th\, in A807 (New Music Building). This workshop is free and open to a
 ll. Registration is required. \n\n
LAST-MODIFIED;VALUE=DATE-TIME:20220211T185431Z
LOCATION:A807 (CIRMMT Conference Room)\, New Music Building\, 527 Sherbroo
 ke St. West.
URL:https://www.cirmmt.org/fr/events/workshops/meetings/beyond-free-sortin
 g
END:VEVENT
BEGIN:VTIMEZONE
TZID:America/Montreal
X-LIC-LOCATION:America/Montreal
BEGIN:DAYLIGHT
DTSTART;VALUE=DATE-TIME:20120311T030000
TZNAME:EDT
TZOFFSETFROM:-0500
TZOFFSETTO:-0400
END:DAYLIGHT
END:VTIMEZONE
END:VCALENDAR
