BEGIN:VCALENDAR
VERSION:2.0
PRODID:-//Plone.org//NONSGML plone.app.event//EN
X-WR-TIMEZONE:America/Toronto
BEGIN:VEVENT
SUMMARY:Workshop on Biosignals and Music
DTSTART;TZID=America/Montreal;VALUE=DATE-TIME:20090324T140000
DTEND;TZID=America/Montreal;VALUE=DATE-TIME:20090324T170000
DTSTAMP;VALUE=DATE-TIME:20260422T020109Z
UID:167df837cac64fdcaa88e9b6553c98fd@project_zeoclients
CREATED;VALUE=DATE-TIME:20220210T175934Z
DESCRIPTION:This workshop is organized by CIRMMT Research Axis 2 (Musical 
 Gestures\, Devices and Motion Capture).  It will take place on March 24th\
 , 2009. 
LAST-MODIFIED;VALUE=DATE-TIME:20220211T185431Z
LOCATION:A832\, New Music Building (enter via 555 Sherbrooke St. West)
URL:https://www.cirmmt.org/fr/events/workshops/meetings/biosignals
END:VEVENT
BEGIN:VTIMEZONE
TZID:America/Montreal
X-LIC-LOCATION:America/Montreal
BEGIN:DAYLIGHT
DTSTART;VALUE=DATE-TIME:20090308T030000
TZNAME:EDT
TZOFFSETFROM:-0500
TZOFFSETTO:-0400
END:DAYLIGHT
END:VTIMEZONE
END:VCALENDAR
