BEGIN:VCALENDAR
VERSION:2.0
PRODID:-//Plone.org//NONSGML plone.app.event//EN
X-WR-TIMEZONE:America/Toronto
BEGIN:VEVENT
SUMMARY:John Chowning CIRMMT Workshop
DTSTART;TZID=America/Montreal;VALUE=DATE-TIME:20090520T160000
DTEND;TZID=America/Montreal;VALUE=DATE-TIME:20090520T180000
DTSTAMP;VALUE=DATE-TIME:20260422T015459Z
UID:89f84cf633d14d909780bbfdd13b91ef@project_zeoclients
CREATED;VALUE=DATE-TIME:20220210T175902Z
DESCRIPTION:CIRMMT is delighted to welcome John Chowning as Distinguished 
 Guest Artist. During his visit\, Mr. Chowning will participate in a CIRMMT
  workshop and his music will be featured in a live@CIRMMT Distinguished Ar
 tist Concert.
LAST-MODIFIED;VALUE=DATE-TIME:20220211T185428Z
LOCATION:MMR\, New Music Building\, McGill Univeristy (527 Sherbrooke St. 
 West)
URL:https://www.cirmmt.org/fr/events/workshops/meetings/chowning
END:VEVENT
BEGIN:VTIMEZONE
TZID:America/Montreal
X-LIC-LOCATION:America/Montreal
BEGIN:DAYLIGHT
DTSTART;VALUE=DATE-TIME:20090308T030000
TZNAME:EDT
TZOFFSETFROM:-0500
TZOFFSETTO:-0400
END:DAYLIGHT
END:VTIMEZONE
END:VCALENDAR
