BEGIN:VCALENDAR
VERSION:2.0
PRODID:-//Plone.org//NONSGML plone.app.event//EN
X-WR-TIMEZONE:America/Toronto
BEGIN:VEVENT
SUMMARY:Workshop on computer-assisted composition
DTSTART;TZID=America/Montreal;VALUE=DATE-TIME:20110416T100000
DTEND;TZID=America/Montreal;VALUE=DATE-TIME:20110416T180000
DTSTAMP;VALUE=DATE-TIME:20260421T231750Z
UID:baded9edc4fc4e9797403bd6e1310222@project_zeoclients
CREATED;VALUE=DATE-TIME:20220210T175910Z
DESCRIPTION:This workshop is organized by CIRMMT Research Axis 6 (Expanded
  musical practice).  It will take place on Saturday\, April 16\, 2011\, fr
 om 9:00am-5:00pm in A832 (New Music Building). This workshop is free and o
 pen to all.  Registration is required. 
LAST-MODIFIED;VALUE=DATE-TIME:20220211T185429Z
LOCATION:A832\, New Music Building\, 527 Sherbrooke St. West. 
URL:https://www.cirmmt.org/fr/events/workshops/meetings/computer-assisted-
 composition
END:VEVENT
BEGIN:VTIMEZONE
TZID:America/Montreal
X-LIC-LOCATION:America/Montreal
BEGIN:DAYLIGHT
DTSTART;VALUE=DATE-TIME:20110313T030000
TZNAME:EDT
TZOFFSETFROM:-0500
TZOFFSETTO:-0400
END:DAYLIGHT
END:VTIMEZONE
END:VCALENDAR
