BEGIN:VCALENDAR
VERSION:2.0
PRODID:-//Plone.org//NONSGML plone.app.event//EN
X-WR-TIMEZONE:America/Toronto
BEGIN:VEVENT
SUMMARY:Workshop on continuous response data analysis
DTSTART;TZID=America/Montreal;VALUE=DATE-TIME:20110614T093000
DTEND;TZID=America/Montreal;VALUE=DATE-TIME:20110614T190000
DTSTAMP;VALUE=DATE-TIME:20260421T231731Z
UID:ebfd069e842046d6b39a4431bef368be@project_zeoclients
CREATED;VALUE=DATE-TIME:20220210T175941Z
DESCRIPTION:This workshop is organized by CIRMMT Research Axis 5 (Music Pe
 rception and Cognition).  It will take place on June 14\, 2011\, from 9:00
 am-6:00pm in A832 (New Music Building).
LAST-MODIFIED;VALUE=DATE-TIME:20220211T185431Z
LOCATION:A832\, New Music Building\, 527 Sherbrooke St. West. 
URL:https://www.cirmmt.org/fr/events/workshops/meetings/data-analysis
END:VEVENT
BEGIN:VTIMEZONE
TZID:America/Montreal
X-LIC-LOCATION:America/Montreal
BEGIN:DAYLIGHT
DTSTART;VALUE=DATE-TIME:20110313T030000
TZNAME:EDT
TZOFFSETFROM:-0500
TZOFFSETTO:-0400
END:DAYLIGHT
END:VTIMEZONE
END:VCALENDAR
