BEGIN:VCALENDAR
VERSION:2.0
PRODID:-//Plone.org//NONSGML plone.app.event//EN
X-WR-TIMEZONE:America/Toronto
BEGIN:VEVENT
SUMMARY:Workshop on the relationship between gestures and composition/perf
 ormance
DTSTART;TZID=America/Montreal;VALUE=DATE-TIME:20111207T093000
DTEND;TZID=America/Montreal;VALUE=DATE-TIME:20111207T133000
DTSTAMP;VALUE=DATE-TIME:20260421T232101Z
UID:30540928f71d41aa93d5dd90e954a90a@project_zeoclients
CREATED;VALUE=DATE-TIME:20220210T175914Z
DESCRIPTION:This workshop is organized by CIRMMT Research Axis 6 (expanded
  musical practice). It will take place on December 7th\, in A832 (New Musi
 c Building). This workshop is free and open to all. Registration is requir
 ed. \n\n\n
LAST-MODIFIED;VALUE=DATE-TIME:20220211T185429Z
LOCATION:A832\, New Music Building\, 527 Sherbrooke St. West. Enter via 55
 5 Sherbrooke St. West. 
URL:https://www.cirmmt.org/fr/events/workshops/meetings/demey-gestures
END:VEVENT
BEGIN:VTIMEZONE
TZID:America/Montreal
X-LIC-LOCATION:America/Montreal
BEGIN:STANDARD
DTSTART;VALUE=DATE-TIME:20111106T010000
TZNAME:EST
TZOFFSETFROM:-0400
TZOFFSETTO:-0500
END:STANDARD
END:VTIMEZONE
END:VCALENDAR
