BEGIN:VCALENDAR
VERSION:2.0
PRODID:-//Plone.org//NONSGML plone.app.event//EN
X-WR-TIMEZONE:America/Toronto
BEGIN:VEVENT
SUMMARY:Workshop on designing interaction
DTSTART;TZID=America/Montreal;VALUE=DATE-TIME:20131105T140000
DTEND;TZID=America/Montreal;VALUE=DATE-TIME:20131105T170000
DTSTAMP;VALUE=DATE-TIME:20260421T192811Z
UID:a7a2a6d28271466d992a522daae0c452@project_zeoclients
CREATED;VALUE=DATE-TIME:20220210T175900Z
DESCRIPTION:This workshop is organized by CIRMMT Research Axis 2 (Musical 
 gestures\, devices and motion capture). It will take place on November 5th
 \, in A832 (New Music Building). This workshop is free and open to all. Re
 gistration is required. \n
LAST-MODIFIED;VALUE=DATE-TIME:20220211T185428Z
LOCATION:A832\, New Music Building\, 527 Sherbrooke St. West.
URL:https://www.cirmmt.org/fr/events/workshops/meetings/designing_interact
 ion
END:VEVENT
BEGIN:VTIMEZONE
TZID:America/Montreal
X-LIC-LOCATION:America/Montreal
BEGIN:STANDARD
DTSTART;VALUE=DATE-TIME:20131103T010000
TZNAME:EST
TZOFFSETFROM:-0400
TZOFFSETTO:-0500
END:STANDARD
END:VTIMEZONE
END:VCALENDAR
