BEGIN:VCALENDAR
VERSION:2.0
PRODID:-//Plone.org//NONSGML plone.app.event//EN
X-WR-TIMEZONE:America/Toronto
BEGIN:VEVENT
SUMMARY:Workshop on design and performance with Digital Musical Instrument
 s (DMIs) with David Wessel
DTSTART;TZID=America/Montreal;VALUE=DATE-TIME:20101126T140000
DTEND;TZID=America/Montreal;VALUE=DATE-TIME:20101126T180000
DTSTAMP;VALUE=DATE-TIME:20260422T002904Z
UID:37a815bae2ca4d97bfb88e6b351b9181@project_zeoclients
CREATED;VALUE=DATE-TIME:20220210T175930Z
DESCRIPTION:This workshop is co-organized by CIRMMT Research Axis 2 (Music
 al gestures\, devices and motion capture) and Research Axis 6 (Expanded mu
 sic practice). It will take place on November 26\, 2010\, from 2:00-6:00pm
  in A832 (New Music Building).  This workshop is free and open to all.  Re
 gistration is required. \n\n\n
LAST-MODIFIED;VALUE=DATE-TIME:20220211T185430Z
LOCATION:A832\, New Music Building\, 527 Sherbrooke St. West. 
URL:https://www.cirmmt.org/fr/events/workshops/meetings/dmi
END:VEVENT
BEGIN:VTIMEZONE
TZID:America/Montreal
X-LIC-LOCATION:America/Montreal
BEGIN:STANDARD
DTSTART;VALUE=DATE-TIME:20101107T010000
TZNAME:EST
TZOFFSETFROM:-0400
TZOFFSETTO:-0500
END:STANDARD
END:VTIMEZONE
END:VCALENDAR
