BEGIN:VCALENDAR
VERSION:2.0
PRODID:-//Plone.org//NONSGML plone.app.event//EN
X-WR-TIMEZONE:America/Toronto
BEGIN:VEVENT
SUMMARY:Workshop on Expressive Performance
DTSTART;TZID=America/Montreal;VALUE=DATE-TIME:20090512T140000
DTEND;TZID=America/Montreal;VALUE=DATE-TIME:20090512T193000
DTSTAMP;VALUE=DATE-TIME:20260422T020105Z
UID:86776e6871a3475e8d641c8dee438a22@project_zeoclients
CREATED;VALUE=DATE-TIME:20220210T175929Z
DESCRIPTION:This workshop is organized by CIRMMT Research Axis 3 (Music In
 formation Archiving and Retrieval).  It will take place on May 12\, 2009 a
 t BRAMS (Université de Montréal). 
LAST-MODIFIED;VALUE=DATE-TIME:20220211T185430Z
LOCATION:BRAMS\, 1430\, boul. du Mont-Royal (Outremont)\, 2nd floor
URL:https://www.cirmmt.org/fr/events/workshops/meetings/expressive-perform
 ance
END:VEVENT
BEGIN:VTIMEZONE
TZID:America/Montreal
X-LIC-LOCATION:America/Montreal
BEGIN:DAYLIGHT
DTSTART;VALUE=DATE-TIME:20090308T030000
TZNAME:EDT
TZOFFSETFROM:-0500
TZOFFSETTO:-0400
END:DAYLIGHT
END:VTIMEZONE
END:VCALENDAR
