BEGIN:VCALENDAR
VERSION:2.0
PRODID:-//Plone.org//NONSGML plone.app.event//EN
X-WR-TIMEZONE:America/Toronto
BEGIN:VEVENT
SUMMARY:Workshop on expressivity in musical performance
DTSTART;TZID=America/Montreal;VALUE=DATE-TIME:20130419T103000
DTEND;TZID=America/Montreal;VALUE=DATE-TIME:20130419T130000
DTSTAMP;VALUE=DATE-TIME:20260421T204625Z
UID:e196396c13b245f4ac274acb3bc81913@project_zeoclients
CREATED;VALUE=DATE-TIME:20220210T175908Z
DESCRIPTION:This workshop is organized by CIRMMT Research Axis 5 (Music pe
 rception and cognition). It will take place on April 19th\, in A832 (New M
 usic Building). This workshop is free and open to all. Registration is req
 uired. \n\n
LAST-MODIFIED;VALUE=DATE-TIME:20220211T185429Z
LOCATION:A832\, New Music Building\, 527 Sherbrooke St. West.
URL:https://www.cirmmt.org/fr/events/workshops/meetings/expressivity
END:VEVENT
BEGIN:VTIMEZONE
TZID:America/Montreal
X-LIC-LOCATION:America/Montreal
BEGIN:DAYLIGHT
DTSTART;VALUE=DATE-TIME:20130310T030000
TZNAME:EDT
TZOFFSETFROM:-0500
TZOFFSETTO:-0400
END:DAYLIGHT
END:VTIMEZONE
END:VCALENDAR
