BEGIN:VCALENDAR
VERSION:2.0
PRODID:-//Plone.org//NONSGML plone.app.event//EN
X-WR-TIMEZONE:America/Toronto
BEGIN:VEVENT
SUMMARY:Workshop on extended keyboards
DTSTART;TZID=America/Montreal;VALUE=DATE-TIME:20120117T140000
DTEND;TZID=America/Montreal;VALUE=DATE-TIME:20120117T180000
DTSTAMP;VALUE=DATE-TIME:20260421T232050Z
UID:388ebeb031654fb394eeb05c5112ee69@project_zeoclients
CREATED;VALUE=DATE-TIME:20220210T175946Z
DESCRIPTION:This workshop is organized by CIRMMT Research Axis 2 (Musical 
 gestures\, devices and motion capture). It will take place on January 17th
 \, in A832 (New Music Building). This workshop is free and open to all. Re
 gistration is required. \n\n\n
LAST-MODIFIED;VALUE=DATE-TIME:20220211T185431Z
LOCATION:A832\, New Music Building\, 527 Sherbrooke St. West.
URL:https://www.cirmmt.org/fr/events/workshops/meetings/extended-keyboards
END:VEVENT
BEGIN:VTIMEZONE
TZID:America/Montreal
X-LIC-LOCATION:America/Montreal
BEGIN:STANDARD
DTSTART;VALUE=DATE-TIME:20111106T010000
TZNAME:EST
TZOFFSETFROM:-0400
TZOFFSETTO:-0500
END:STANDARD
END:VTIMEZONE
END:VCALENDAR
