BEGIN:VCALENDAR
VERSION:2.0
PRODID:-//Plone.org//NONSGML plone.app.event//EN
X-WR-TIMEZONE:America/Toronto
BEGIN:VEVENT
SUMMARY:EyesWeb Software Demonstration by Antonio Camurri
DTSTART;TZID=America/Montreal;VALUE=DATE-TIME:20090414T150000
DTEND;TZID=America/Montreal;VALUE=DATE-TIME:20090414T170000
DTSTAMP;VALUE=DATE-TIME:20260422T014829Z
UID:579828bf7f724dceaaa80c92a9692f6e@project_zeoclients
CREATED;VALUE=DATE-TIME:20220210T175917Z
DESCRIPTION:On Tuesday\, April 14\, Prof. Camurri will demonstrate the lat
 est features of the software EyesWeb at CIRMMT.
LAST-MODIFIED;VALUE=DATE-TIME:20220211T185429Z
LOCATION:A832\, New Music Building (enter via 555 Sherbrooke St. West)
URL:https://www.cirmmt.org/fr/events/workshops/meetings/eyesweb
END:VEVENT
BEGIN:VTIMEZONE
TZID:America/Montreal
X-LIC-LOCATION:America/Montreal
BEGIN:DAYLIGHT
DTSTART;VALUE=DATE-TIME:20090308T030000
TZNAME:EDT
TZOFFSETFROM:-0500
TZOFFSETTO:-0400
END:DAYLIGHT
END:VTIMEZONE
END:VCALENDAR
