BEGIN:VCALENDAR
VERSION:2.0
PRODID:-//Plone.org//NONSGML plone.app.event//EN
X-WR-TIMEZONE:America/Toronto
BEGIN:VEVENT
SUMMARY:CIRMMT Student General Meeting 2018
DTSTART;TZID=America/Montreal;VALUE=DATE-TIME:20180927T170000
DTEND;TZID=America/Montreal;VALUE=DATE-TIME:20180927T190000
DTSTAMP;VALUE=DATE-TIME:20260421T151309Z
UID:9931179b97a8450e95a562737f229689@project_zeoclients
CREATED;VALUE=DATE-TIME:20210321T220055Z
LAST-MODIFIED;VALUE=DATE-TIME:20210420T151214Z
LOCATION:A832/A833\, Elizabeth Wirth Music Building\, 527 Sherbrooke St W
URL:https://www.cirmmt.org/fr/events/workshops/meetings/gen-meeting/studen
 t-meeting2018
END:VEVENT
BEGIN:VTIMEZONE
TZID:America/Montreal
X-LIC-LOCATION:America/Montreal
BEGIN:DAYLIGHT
DTSTART;VALUE=DATE-TIME:20180311T030000
TZNAME:EDT
TZOFFSETFROM:-0500
TZOFFSETTO:-0400
END:DAYLIGHT
END:VTIMEZONE
END:VCALENDAR
