BEGIN:VCALENDAR
VERSION:2.0
PRODID:-//Plone.org//NONSGML plone.app.event//EN
X-WR-TIMEZONE:America/Toronto
BEGIN:VEVENT
SUMMARY:Workshop on representing human information in GIS
DTSTART;TZID=America/Montreal;VALUE=DATE-TIME:20131216T093000
DTEND;TZID=America/Montreal;VALUE=DATE-TIME:20131216T143000
DTSTAMP;VALUE=DATE-TIME:20260421T191329Z
UID:c0171a81c74c4bd989fe051b1e85767a@project_zeoclients
CREATED;VALUE=DATE-TIME:20220210T175900Z
DESCRIPTION:This workshop is co-organized by the McGill School of Informat
 ion Studies (SIS) and CIRMMT Research Axis 4 (Multimodal immersive systems
 ). It will take place on Monday\, December 16\, 2013\, at the School of In
 formation Studies on the McGill downtown campus. This workshop is free and
  open to all. Registration is required.
LAST-MODIFIED;VALUE=DATE-TIME:20220211T185428Z
LOCATION:School of Information Studies\, Room 106\, 3661 Peel St\, Montrea
 l\, QC H3A 1X1
URL:https://www.cirmmt.org/fr/events/workshops/meetings/gis
END:VEVENT
BEGIN:VTIMEZONE
TZID:America/Montreal
X-LIC-LOCATION:America/Montreal
BEGIN:STANDARD
DTSTART;VALUE=DATE-TIME:20131103T010000
TZNAME:EST
TZOFFSETFROM:-0400
TZOFFSETTO:-0500
END:STANDARD
END:VTIMEZONE
END:VCALENDAR
