BEGIN:VCALENDAR
VERSION:2.0
PRODID:-//Plone.org//NONSGML plone.app.event//EN
X-WR-TIMEZONE:America/Toronto
BEGIN:VEVENT
SUMMARY:Workshop with Rolf Inge Godøy of the University of Oslo
DTSTART;TZID=America/Montreal;VALUE=DATE-TIME:20080418T130000
DTEND;TZID=America/Montreal;VALUE=DATE-TIME:20080418T160000
DTSTAMP;VALUE=DATE-TIME:20260422T030543Z
UID:b6f8e98b0b0d4d9e812f2b4d0a707a1f@project_zeoclients
CREATED;VALUE=DATE-TIME:20220210T175912Z
DESCRIPTION:This workshop\, organized by CIRMMT research axis 2 (musical g
 estures\, devices and motion capture)\, will take place at McGill Universi
 ty on April 18\, 2008.  
LAST-MODIFIED;VALUE=DATE-TIME:20220211T185429Z
LOCATION:A832\, New Music Building\, McGill University (527 Sherbrooke St.
  West).
URL:https://www.cirmmt.org/fr/events/workshops/meetings/godoy
END:VEVENT
BEGIN:VTIMEZONE
TZID:America/Montreal
X-LIC-LOCATION:America/Montreal
BEGIN:DAYLIGHT
DTSTART;VALUE=DATE-TIME:20080309T030000
TZNAME:EDT
TZOFFSETFROM:-0500
TZOFFSETTO:-0400
END:DAYLIGHT
END:VTIMEZONE
END:VCALENDAR
