BEGIN:VCALENDAR
VERSION:2.0
PRODID:-//Plone.org//NONSGML plone.app.event//EN
X-WR-TIMEZONE:America/Toronto
BEGIN:VEVENT
SUMMARY:Workshop on Human History Project #1: Digital Prosopography and Li
 nked Open Data
DTSTART;TZID=America/Montreal;VALUE=DATE-TIME:20130621T110000
DTEND;TZID=America/Montreal;VALUE=DATE-TIME:20130621T140000
DTSTAMP;VALUE=DATE-TIME:20260421T204131Z
UID:a359e5debcd44d95a7a2562bbc7c06b6@project_zeoclients
CREATED;VALUE=DATE-TIME:20220210T175854Z
DESCRIPTION:This workshop is organized by CIRMMT Research Axis 3 (Musical 
 information retrieval\, archiving and analysis). It will take place on Jun
 e 21st\, in A832 (New Music Building). This workshop is free and open to a
 ll. Registration is required. \n
LAST-MODIFIED;VALUE=DATE-TIME:20220211T185428Z
LOCATION:A832\, New Music Building\, 527 Sherbrooke St. West.
URL:https://www.cirmmt.org/fr/events/workshops/meetings/human-history1
END:VEVENT
BEGIN:VTIMEZONE
TZID:America/Montreal
X-LIC-LOCATION:America/Montreal
BEGIN:DAYLIGHT
DTSTART;VALUE=DATE-TIME:20130310T030000
TZNAME:EDT
TZOFFSETFROM:-0500
TZOFFSETTO:-0400
END:DAYLIGHT
END:VTIMEZONE
END:VCALENDAR
