BEGIN:VCALENDAR
VERSION:2.0
PRODID:-//Plone.org//NONSGML plone.app.event//EN
X-WR-TIMEZONE:America/Toronto
BEGIN:VEVENT
SUMMARY:IAM@CIRMMT#27 : Outlast Trials – La route de l'horreur du joueur
  solo à la TERREUR du multijoueur
DTSTART;TZID=America/Toronto;VALUE=DATE-TIME:20241024T180000
DTEND;TZID=America/Toronto;VALUE=DATE-TIME:20241024T220000
DTSTAMP;VALUE=DATE-TIME:20260421T111337Z
UID:0141f788851a42fab734931def45886e@project_zeoclients
CONTACT:info[AROBASE]interactiveaudio[POINT]com\, https://www.interactivea
 udiomontreal.com/fr/evenements/iam-cirmmt-27-outlast-trials
CREATED;VALUE=DATE-TIME:20241017T145237Z
LAST-MODIFIED;VALUE=DATE-TIME:20250415T141334Z
LOCATION:Salle A-832 (8ème étage)\, Pavillon de musique Elizabeth Wirth\
 , 527 rue Sherbrooke O.
URL:https://www.cirmmt.org/fr/events/workshops/meetings/iam-24-oct-2024
END:VEVENT
BEGIN:VTIMEZONE
TZID:America/Toronto
X-LIC-LOCATION:America/Toronto
BEGIN:DAYLIGHT
DTSTART;VALUE=DATE-TIME:20240310T030000
TZNAME:EDT
TZOFFSETFROM:-0500
TZOFFSETTO:-0400
END:DAYLIGHT
END:VTIMEZONE
END:VCALENDAR
