BEGIN:VCALENDAR
VERSION:2.0
PRODID:-//Plone.org//NONSGML plone.app.event//EN
X-WR-TIMEZONE:America/Toronto
BEGIN:VEVENT
SUMMARY:Karlax and DMI Workshop
DTSTART;TZID=America/Montreal;VALUE=DATE-TIME:20150504T103000
DTEND;TZID=America/Montreal;VALUE=DATE-TIME:20150504T183000
DTSTAMP;VALUE=DATE-TIME:20260421T180827Z
UID:8c47301c8c10484ebb6d264ab7692b50@project_zeoclients
CREATED;VALUE=DATE-TIME:20220210T175857Z
DESCRIPTION:This workshop is organized by CIRMMT Research Axis 1 (Instrume
 nts\, devices and systems) and Research Axis 4 (Expanded musical practice)
  and produced by the Digital Composition Studio of McGill University. It w
 ill take place on May 4th\, 2015\, in A-025 Wirth Opera Studio (-2nd floor
 \, New Music Building). This workshop is free and open to all. Registratio
 n is required. \n\n\n
LAST-MODIFIED;VALUE=DATE-TIME:20220211T185428Z
LOCATION:A025\, Wirth Opera Studio\, New Music Building\, 527 Sherbrooke S
 t. West.
URL:https://www.cirmmt.org/fr/events/workshops/meetings/karlaxWorkshop2015
END:VEVENT
BEGIN:VTIMEZONE
TZID:America/Montreal
X-LIC-LOCATION:America/Montreal
BEGIN:DAYLIGHT
DTSTART;VALUE=DATE-TIME:20150308T030000
TZNAME:EDT
TZOFFSETFROM:-0500
TZOFFSETTO:-0400
END:DAYLIGHT
END:VTIMEZONE
END:VCALENDAR
