BEGIN:VCALENDAR
VERSION:2.0
PRODID:-//Plone.org//NONSGML plone.app.event//EN
X-WR-TIMEZONE:America/Toronto
BEGIN:VEVENT
SUMMARY:Workshop on Music and Machine Learning
DTSTART;TZID=America/Montreal;VALUE=DATE-TIME:20081114T090000
DTEND;TZID=America/Montreal;VALUE=DATE-TIME:20081114T170000
DTSTAMP;VALUE=DATE-TIME:20260422T013841Z
UID:e61b11df6a8f4a2f85040756b446cb9c@project_zeoclients
CREATED;VALUE=DATE-TIME:20220210T175921Z
DESCRIPTION:This workshop is organized by CIRMMT Research Axis 3 (Music In
 formation Archiving and Retrieval).  It will take place on Novmeber 14th\,
  2008 at  BRAMS (Université de Montréal).  Registration is free.
LAST-MODIFIED;VALUE=DATE-TIME:20220211T185430Z
LOCATION:BRAMS\, 1430  Boulevard Mont-Royal\, Montreal\, QC
URL:https://www.cirmmt.org/fr/events/workshops/meetings/machine-learning
END:VEVENT
BEGIN:VTIMEZONE
TZID:America/Montreal
X-LIC-LOCATION:America/Montreal
BEGIN:STANDARD
DTSTART;VALUE=DATE-TIME:20081102T010000
TZNAME:EST
TZOFFSETFROM:-0400
TZOFFSETTO:-0500
END:STANDARD
END:VTIMEZONE
END:VCALENDAR
