BEGIN:VCALENDAR
VERSION:2.0
PRODID:-//Plone.org//NONSGML plone.app.event//EN
X-WR-TIMEZONE:America/Toronto
BEGIN:VEVENT
SUMMARY:Workshop on measurement techniques and software tools to aid music
  instrument makers
DTSTART;TZID=America/Montreal;VALUE=DATE-TIME:20131018T150000
DTEND;TZID=America/Montreal;VALUE=DATE-TIME:20131018T173000
DTSTAMP;VALUE=DATE-TIME:20260421T192813Z
UID:55defbfd6d014b4dbb806541240dedfc@project_zeoclients
CREATED;VALUE=DATE-TIME:20220210T175856Z
DESCRIPTION:This workshop is organized by CIRMMT Research Axis 1 (Sound mo
 deling\, acoustics and signal processing). It will take place on Friday\, 
 October 18\, 2013\, in A832 (New Music Building). This workshop is free an
 d open to all. Registration is required. \n\n
LAST-MODIFIED;VALUE=DATE-TIME:20220211T185428Z
LOCATION:A832\, New Music Building\, 527 Sherbrooke St. West.
URL:https://www.cirmmt.org/fr/events/workshops/meetings/measurement-techni
 ques
END:VEVENT
BEGIN:VTIMEZONE
TZID:America/Montreal
X-LIC-LOCATION:America/Montreal
BEGIN:DAYLIGHT
DTSTART;VALUE=DATE-TIME:20130310T030000
TZNAME:EDT
TZOFFSETFROM:-0500
TZOFFSETTO:-0400
END:DAYLIGHT
END:VTIMEZONE
END:VCALENDAR
