BEGIN:VCALENDAR
VERSION:2.0
PRODID:-//Plone.org//NONSGML plone.app.event//EN
X-WR-TIMEZONE:America/Toronto
BEGIN:VEVENT
SUMMARY:Workshop on measuring coordination between performer and audience 
 response
DTSTART;TZID=America/Montreal;VALUE=DATE-TIME:20120314T110000
DTEND;TZID=America/Montreal;VALUE=DATE-TIME:20120314T140000
DTSTAMP;VALUE=DATE-TIME:20260421T220559Z
UID:8787181831e6471dbe666fdeda507247@project_zeoclients
CREATED;VALUE=DATE-TIME:20220210T175908Z
DESCRIPTION:This workshop is organized by CIRMMT Research Axis 2 (Musical 
 gestures\, devices and motion capture) and Research Axis 5 (Music percepti
 on and cognition). It will take place on March 14th\, in A832 (New Music B
 uilding). This workshop is free and open to all. Registration is required.
  \n\n\n
LAST-MODIFIED;VALUE=DATE-TIME:20220211T185429Z
LOCATION:A832\, New Music Building\, 527 Sherbrooke St. West.
URL:https://www.cirmmt.org/fr/events/workshops/meetings/measuring-coordina
 tion
END:VEVENT
BEGIN:VTIMEZONE
TZID:America/Montreal
X-LIC-LOCATION:America/Montreal
BEGIN:DAYLIGHT
DTSTART;VALUE=DATE-TIME:20120311T030000
TZNAME:EDT
TZOFFSETFROM:-0500
TZOFFSETTO:-0400
END:DAYLIGHT
END:VTIMEZONE
END:VCALENDAR
