BEGIN:VCALENDAR
VERSION:2.0
PRODID:-//Plone.org//NONSGML plone.app.event//EN
X-WR-TIMEZONE:America/Toronto
BEGIN:VEVENT
SUMMARY:Workshop on mixed music: Notation and performance of live electron
 ics
DTSTART;TZID=America/Montreal;VALUE=DATE-TIME:20140313T170000
DTEND;TZID=America/Montreal;VALUE=DATE-TIME:20140313T190000
DTSTAMP;VALUE=DATE-TIME:20260421T192937Z
UID:27108c892a6a49ee8133901babb16c8c@project_zeoclients
CREATED;VALUE=DATE-TIME:20220210T175847Z
DESCRIPTION:This workshop is organized by CIRMMT Research Axis 6 (Expanded
  musical practice). It will take place on Thursday\, March 13\, 2014\, in 
 the MMR. This workshop is free and open to all. Registration is required. 
 A small reception will follow.
LAST-MODIFIED;VALUE=DATE-TIME:20220211T185427Z
LOCATION:Multimedia Room (MMR)\, level -2\, New Music Building\, 527 Sherb
 rooke St. West. 
URL:https://www.cirmmt.org/fr/events/workshops/meetings/mixed-music
END:VEVENT
BEGIN:VTIMEZONE
TZID:America/Montreal
X-LIC-LOCATION:America/Montreal
BEGIN:DAYLIGHT
DTSTART;VALUE=DATE-TIME:20140309T030000
TZNAME:EDT
TZOFFSETFROM:-0500
TZOFFSETTO:-0400
END:DAYLIGHT
END:VTIMEZONE
END:VCALENDAR
