BEGIN:VCALENDAR
VERSION:2.0
PRODID:-//Plone.org//NONSGML plone.app.event//EN
X-WR-TIMEZONE:America/Toronto
BEGIN:VEVENT
SUMMARY:Workshop on Multimodal Influences on Perceived Self Motion
DTSTART;TZID=America/Montreal;VALUE=DATE-TIME:20080204T110000
DTEND;TZID=America/Montreal;VALUE=DATE-TIME:20080204T170000
DTSTAMP;VALUE=DATE-TIME:20260422T030622Z
UID:e6b31a25b37d426787c9ce4be0e50fa6@project_zeoclients
CREATED;VALUE=DATE-TIME:20220210T175926Z
DESCRIPTION:This workshop\, organized by CIRMMT research axis 4 (Multimoda
 l Immersive Systems)\, will take place at McGill University on February 4\
 , 2008.  
LAST-MODIFIED;VALUE=DATE-TIME:20220211T185430Z
LOCATION:A832\, New Music Building\, McGill University (527 Sherbrooke St.
  West).
URL:https://www.cirmmt.org/fr/events/workshops/meetings/multimodal-influen
 ces
END:VEVENT
BEGIN:VTIMEZONE
TZID:America/Montreal
X-LIC-LOCATION:America/Montreal
BEGIN:STANDARD
DTSTART;VALUE=DATE-TIME:20071104T010000
TZNAME:EST
TZOFFSETFROM:-0400
TZOFFSETTO:-0500
END:STANDARD
END:VTIMEZONE
END:VCALENDAR
