BEGIN:VCALENDAR
VERSION:2.0
PRODID:-//Plone.org//NONSGML plone.app.event//EN
X-WR-TIMEZONE:America/Toronto
BEGIN:VEVENT
SUMMARY:Workshop on multi-sensory perception and action
DTSTART;TZID=America/Montreal;VALUE=DATE-TIME:20121204T090000
DTEND;TZID=America/Montreal;VALUE=DATE-TIME:20121204T163000
DTSTAMP;VALUE=DATE-TIME:20260421T203957Z
UID:6f2468781f944093b5c4ebe9b55b8827@project_zeoclients
CREATED;VALUE=DATE-TIME:20220210T175920Z
DESCRIPTION:This workshop is co-hosted by CIRMMT Research Axis 4 (Immersiv
 e multimodal systems) and Research Axis 2 (Musical gestures\, devices and 
 motion capture). It will take place on December 4th\, in A832 (New Music B
 uilding). This workshop is free and open to all. Registration is required.
  \n\n
LAST-MODIFIED;VALUE=DATE-TIME:20220211T185430Z
LOCATION:A832\, New Music Building\, 527 Sherbrooke St. West.
URL:https://www.cirmmt.org/fr/events/workshops/meetings/multisensory
END:VEVENT
BEGIN:VTIMEZONE
TZID:America/Montreal
X-LIC-LOCATION:America/Montreal
BEGIN:STANDARD
DTSTART;VALUE=DATE-TIME:20121104T010000
TZNAME:EST
TZOFFSETFROM:-0400
TZOFFSETTO:-0500
END:STANDARD
END:VTIMEZONE
END:VCALENDAR
